BEGIN:VCALENDAR
VERSION:2.0
PRODID:-//Junge SVP Kanton St. Gallen //NONSGML Events //EN
CALSCALE:GREGORIAN
X-WR-CALNAME:Junge SVP Kanton St. Gallen
BEGIN:VEVENT
CREATED:20251231T155620Z
UID:3168
DTEND:20260507T200000
DTSTART:20260507T190000
DTSTAMP:20260420T095553Z
LOCATION:Region Wil
DESCRIPTION:
SUMMARY:Frühlingshöck + Parolenfassung
ORGANIZER:Junge SVP Kanton St.Gallen
URL;VALUE=URI:https://www.jsvp-sg.ch/termine/fruehlingshoeck-parolenfassung/
TRANSP:OPAQUE
END:VEVENT
END:VCALENDAR
